BEGIN:VCALENDAR
VERSION:2.0
PRODID:-//https://bratac.hosts.net.nz/~fencing//NONSGML kigkonsult.se iCalc
 reator 2.23.20//
METHOD:PUBLISH
X-WR-CALNAME:JCal Pro Calendar
X-WR-CALDESC:Your online events calendar
X-WR-TIMEZONE:Pacific/Auckland
BEGIN:VTIMEZONE
TZID:Pacific/Auckland
BEGIN:STANDARD
DTSTART:20240407T030000
TZOFFSETFROM:+1300
TZOFFSETTO:+1200
RDATE:20250406T030000
TZNAME:NZST
END:STANDARD
BEGIN:DAYLIGHT
DTSTART:20240929T020000
TZOFFSETFROM:+1200
TZOFFSETTO:+1300
RDATE:20250928T020000
TZNAME:NZDT
END:DAYLIGHT
END:VTIMEZONE
BEGIN:VEVENT
UID:20240601T120000NZST-8285vw7KIp@https://www.fencing.org.nz/
DTSTAMP:20260424T132859Z
CATEGORIES:FeNZ,Central,International
DESCRIPTION:<p><a href='https://www.sporty.co.nz/asset/downloadasset?id=5b1
 eb78a-f153-4658-92b8-b127ba5314c6'>https://www.sporty.co.nz/asset/download
 asset?id=5b1eb78a-f153-4658-92b8-b127ba5314c6</a></p>\n<p><a href='https:/
 /docs.google.com/forms/d/e/1FAIpQLSd7jGxMwRuTpybrM1PE0JTiuhDcY-N2mOe1SFnL1
 GXVseMTWg/viewform?usp=send_form'>https://docs.google.com/forms/d/e/1FAIpQ
 LSd7jGxMwRuTpybrM1PE0JTiuhDcY-N2mOe1SFnL1GXVseMTWg/viewform?usp=send_form<
 /a></p>\n<p>&nbsp\;</p>\n<p>&nbsp\;</p>
DTSTART;TZID=Pacific/Auckland:20240601T080000
DTEND;TZID=Pacific/Auckland:20240603T140000
SUMMARY:North Island Championships & Oceania Veteran Championships
URL:https://bratac.hosts.net.nz/~fencing/events/events-calendar/27-fenz/200
 -north-island-championships-oceania-veteran-championships
END:VEVENT
BEGIN:VEVENT
UID:20240602T080000NZST-4257egz6s7@https://www.fencing.org.nz/
DTSTAMP:20260424T132859Z
CATEGORIES:South
DESCRIPTION:
DTSTART;VALUE=DATE:20240602
DTEND;VALUE=DATE:20240603
SUMMARY:South Junior Championships
URL:https://bratac.hosts.net.nz/~fencing/events/events-calendar/29-south/21
 6-south-junior-championships
END:VEVENT
BEGIN:VEVENT
UID:20240622T080000NZST-5142kU758e@https://www.fencing.org.nz/
DTSTAMP:20260424T132859Z
CATEGORIES:North
DESCRIPTION:
DTSTART;TZID=Pacific/Auckland:20240616T080000
SUMMARY:MacLeavy Sabre (Ranking)
URL:https://bratac.hosts.net.nz/~fencing/events/events-calendar/26-north/21
 9-macleavy-sabre
END:VEVENT
BEGIN:VEVENT
UID:20240622T080000NZST-1089i3VxCE@https://www.fencing.org.nz/
DTSTAMP:20260424T132859Z
CATEGORIES:South
DESCRIPTION:<p>Entry through the form here :&nbsp\;<a href='https://events.
 humanitix.com/russell-towns/tickets'>https://events.humanitix.com/russell-
 towns/tickets</a></p>\n<p>Information here:&nbsp\;<a href='https://events.
 humanitix.com/russell-towns'>https://events.humanitix.com/russell-towns</a
 ></p>
DTSTART;TZID=Pacific/Auckland:20240622T080000
DTEND;TZID=Pacific/Auckland:20240623T140000
SUMMARY:Russel Town - Dunedin
URL:https://bratac.hosts.net.nz/~fencing/events/events-calendar/29-south/21
 8-russel-town
END:VEVENT
BEGIN:VEVENT
UID:20240504T120000NZST-4544KzSoId@https://www.fencing.org.nz/
DTSTAMP:20260424T132859Z
CATEGORIES:FeNZ
DESCRIPTION:<p><b style='font-size: 24pt\; font-family: inherit\;'>&nbsp\;L
 <span style='font-size: 24pt\;'>ink to booking page for President's Cup&nb
 sp\;</span></b></p>\n<p><b style='font-size: 24pt\; font-family: inherit\;
 '><span style='font-size: 24pt\;'></span></b><span style='font-size: 24pt\
 ;'><a href='https://events.humanitix.com/presidents-cup-2024'>https://even
 ts.humanitix.com/presidents-cup-2024</a></span></p>\n<p>&nbsp\;</p>\n<p>&n
 bsp\;</p>\n<p><span style='-webkit-tap-highlight-color: rgba(0\, 0\, 0\, 0
 )\;'></span></p>
DTSTART;TZID=Pacific/Auckland:20240629T070000
DTEND;TZID=Pacific/Auckland:20240630T130000
SUMMARY:Presidents Cup 
URL:https://bratac.hosts.net.nz/~fencing/events/events-calendar/27-fenz/199
 -president-s-cup
END:VEVENT
END:VCALENDAR
