BEGIN:VCALENDAR
VERSION:2.0
PRODID:-//https://bratac.hosts.net.nz/~fencing//NONSGML kigkonsult.se iCalc
 reator 2.23.20//
METHOD:PUBLISH
X-WR-CALNAME:JCal Pro Calendar
X-WR-CALDESC:Your online events calendar
X-WR-TIMEZONE:Pacific/Auckland
BEGIN:VTIMEZONE
TZID:Pacific/Auckland
BEGIN:STANDARD
DTSTART:20240407T030000
TZOFFSETFROM:+1300
TZOFFSETTO:+1200
RDATE:20250406T030000
TZNAME:NZST
END:STANDARD
BEGIN:DAYLIGHT
DTSTART:20240929T020000
TZOFFSETFROM:+1200
TZOFFSETTO:+1300
RDATE:20250928T020000
TZNAME:NZDT
END:DAYLIGHT
END:VTIMEZONE
BEGIN:VEVENT
UID:20240831T080000NZST-66191HrVf3@https://www.fencing.org.nz/
DTSTAMP:20260424T132920Z
CATEGORIES:South
DESCRIPTION:
DTSTART;TZID=Pacific/Auckland:20240831T080000
DTEND;TZID=Pacific/Auckland:20240901T140000
SUMMARY:South Open Championships
URL:https://bratac.hosts.net.nz/~fencing/events/events-calendar/29-south/21
 7-south-open-cham-ionships
END:VEVENT
BEGIN:VEVENT
UID:20240831T080000NZST-49232xXu4D@https://www.fencing.org.nz/
DTSTAMP:20260424T132920Z
CATEGORIES:South
DESCRIPTION:
DTSTART;TZID=Pacific/Auckland:20240831T080000
DTEND;TZID=Pacific/Auckland:20240901T140000
SUMMARY:South Open Championships
URL:https://bratac.hosts.net.nz/~fencing/events/events-calendar/29-south/22
 1-south-open-championships
END:VEVENT
BEGIN:VEVENT
UID:20240907T070000NZST-6469NcuTMs@https://www.fencing.org.nz/
DTSTAMP:20260424T132920Z
CATEGORIES:FeNZ
DESCRIPTION:<p>&nbsp\;<i><b>At Mount Albert Grammar School\, 38 Alberton Av
 enue\, Mount Albert\, Auckland (Gyms 1&amp\;2 behind the Wave Pools)</b></
 i></p>\n<p>&nbsp\;</p>\n<p>&nbsp\; &nbsp\; &nbsp\; &nbsp\; &nbsp\; &nbsp\;
  &nbsp\; &nbsp\; &nbsp\; &nbsp\; &nbsp\; &nbsp\; &nbsp\; &nbsp\; &nbsp\; &
 nbsp\; &nbsp\;<span style='background-color: #ffff00\;'><a style='backgrou
 nd-color: #ffff00\;' href='https://events.humanitix.com/nz-secondary-schoo
 ls-championship-2024'><b>LINK TO INFORMATION &amp\; REGISTRATION PAGE</b><
 /a></span></p>
DTSTART;TZID=Pacific/Auckland:20240907T070000
DTEND;TZID=Pacific/Auckland:20240908T130000
SUMMARY:National Secondary Schools
URL:https://bratac.hosts.net.nz/~fencing/events/events-calendar/27-fenz/204
 -national-secondary-schools
END:VEVENT
BEGIN:VEVENT
UID:20240920T080000NZST-2118i5rtWU@https://www.fencing.org.nz/
DTSTAMP:20260424T132920Z
CATEGORIES:International
DESCRIPTION:<p>AFF - AFC#1 Open Competition &amp\; National Club Teams<br /
 >Is being held at The Gold Netball Centre\, Jolimont Perth\, Western Austr
 alia.</p>\n<p>Details will be on the AFF website</p>
DTSTART;TZID=Pacific/Auckland:20240920T080000
DTEND;TZID=Pacific/Auckland:20240923T090000
SUMMARY:AFF - AFC#1 Open & National Club Teams
URL:https://bratac.hosts.net.nz/~fencing/events/events-calendar/30-internat
 ional/232-aff-afc-1-open-national-club-teams
END:VEVENT
BEGIN:VEVENT
UID:20240922T080000NZST-9930UxdO1c@https://www.fencing.org.nz/
DTSTAMP:20260424T132920Z
CATEGORIES:North
DESCRIPTION:
DTSTART;VALUE=DATE:20240922
DTEND;VALUE=DATE:20240923
SUMMARY:Pickworth Memorial (Ranking Foil)
URL:https://bratac.hosts.net.nz/~fencing/events/events-calendar/26-north/22
 2-pickworth-memorial-foil
END:VEVENT
END:VCALENDAR
