BEGIN:VCALENDAR
VERSION:2.0
PRODID:-//https://bratac.hosts.net.nz/~fencing//NONSGML kigkonsult.se iCalc
 reator 2.23.20//
METHOD:PUBLISH
X-WR-CALNAME:JCal Pro Calendar
X-WR-CALDESC:Your online events calendar
X-WR-TIMEZONE:Pacific/Auckland
BEGIN:VTIMEZONE
TZID:Pacific/Auckland
BEGIN:STANDARD
DTSTART:20240407T030000
TZOFFSETFROM:+1300
TZOFFSETTO:+1200
RDATE:20250406T030000,20260405T030000
TZNAME:NZST
END:STANDARD
BEGIN:DAYLIGHT
DTSTART:20240929T020000
TZOFFSETFROM:+1200
TZOFFSETTO:+1300
RDATE:20250928T020000
TZNAME:NZDT
END:DAYLIGHT
END:VTIMEZONE
BEGIN:VEVENT
UID:20241005T090000NZDT-1031KOZFuU@https://www.fencing.org.nz/
DTSTAMP:20260424T114449Z
CATEGORIES:Mid South
DESCRIPTION:
DTSTART;TZID=Pacific/Auckland:20241005T090000
DTEND;TZID=Pacific/Auckland:20241006T150000
SUMMARY:Mid South Open
URL:https://bratac.hosts.net.nz/~fencing/events/events-calendar/25-mid-sout
 h/257-mid-south-open
END:VEVENT
BEGIN:VEVENT
UID:20241012T080000NZDT-1421oT0V6R@https://www.fencing.org.nz/
DTSTAMP:20260424T114449Z
CATEGORIES:Central
DESCRIPTION:
DTSTART;TZID=Pacific/Auckland:20241012T080000
DTEND;TZID=Pacific/Auckland:20241013T140000
SUMMARY:Central Open
URL:https://bratac.hosts.net.nz/~fencing/events/events-calendar/28-central/
 223-central-open
END:VEVENT
BEGIN:VEVENT
UID:20241020T080000NZDT-3724VghdUF@https://www.fencing.org.nz/
DTSTAMP:20260424T114449Z
CATEGORIES:North
DESCRIPTION:
DTSTART;VALUE=DATE:20241020
DTEND;VALUE=DATE:20241021
SUMMARY:North Open Championships
URL:https://bratac.hosts.net.nz/~fencing/events/events-calendar/26-north/22
 5-north-open
END:VEVENT
BEGIN:VEVENT
UID:20241025T080000NZDT-4494kUK6eZ@https://www.fencing.org.nz/
DTSTAMP:20260424T114449Z
CATEGORIES:International
DESCRIPTION:<p>AFF - AFC # 2 Open Competition will be held at the<br />Vict
 orian State Fencing Centre\, Melbourne.</p>\n<p>Details will be available 
 on the AFF site</p>
DTSTART;TZID=Pacific/Auckland:20241025T080000
DTEND;TZID=Pacific/Auckland:20241028T090000
SUMMARY:AFF - AFC#2 Open Competition
URL:https://bratac.hosts.net.nz/~fencing/events/events-calendar/30-internat
 ional/233-aff-afc-2-open-competition
END:VEVENT
BEGIN:VEVENT
UID:20241026T120000NZDT-7433nHVNCu@https://www.fencing.org.nz/
DTSTAMP:20260424T114449Z
CATEGORIES:FeNZ
DESCRIPTION:
DTSTART;TZID=Pacific/Auckland:20241026T080000
DTEND;TZID=Pacific/Auckland:20241028T140000
SUMMARY:National Senior & Veteran Championships
URL:https://bratac.hosts.net.nz/~fencing/events/events-calendar/27-fenz/203
 -national-senior-veteran-championships
END:VEVENT
END:VCALENDAR
