BEGIN:VCALENDAR
VERSION:2.0
PRODID:-//https://bratac.hosts.net.nz/~fencing//NONSGML kigkonsult.se iCalc
 reator 2.23.20//
METHOD:PUBLISH
X-WR-CALNAME:JCal Pro Calendar
X-WR-CALDESC:Your online events calendar
X-WR-TIMEZONE:Pacific/Auckland
BEGIN:VTIMEZONE
TZID:Pacific/Auckland
BEGIN:STANDARD
DTSTART:20250406T030000
TZOFFSETFROM:+1300
TZOFFSETTO:+1200
RDATE:20260405T030000
TZNAME:NZST
END:STANDARD
BEGIN:DAYLIGHT
DTSTART:20240929T020000
TZOFFSETFROM:+1200
TZOFFSETTO:+1300
RDATE:20250928T020000,20260927T020000
TZNAME:NZDT
END:DAYLIGHT
END:VTIMEZONE
BEGIN:VEVENT
UID:20250405T080000NZDT-23816JdWsC@https://www.fencing.org.nz/
DTSTAMP:20260424T132900Z
CATEGORIES:Central
DESCRIPTION:
DTSTART;TZID=Pacific/Auckland:20250405T080000
DTEND;TZID=Pacific/Auckland:20250406T170000
SUMMARY:Central Junior Championships
URL:https://bratac.hosts.net.nz/~fencing/events/events-calendar/28-central/
 242-central-junior-championships
END:VEVENT
BEGIN:VEVENT
UID:20250413T080000NZST-4314uR7wBk@https://www.fencing.org.nz/
DTSTAMP:20260424T132900Z
CATEGORIES:North
DESCRIPTION:
DTSTART;TZID=Pacific/Auckland:20250406T080000
DTEND;TZID=Pacific/Auckland:20250406T090000
SUMMARY:Fenton Memorial 
URL:https://bratac.hosts.net.nz/~fencing/events/events-calendar/26-north/27
 7-fenton-memorial
END:VEVENT
BEGIN:VEVENT
UID:20250301T080000NZDT-9996nj3WNx@https://www.fencing.org.nz/
DTSTAMP:20260424T132900Z
CATEGORIES:FeNZ
DESCRIPTION:<p>This event will be held at Claymore Swords in Dunedin.</p>\n
 <p>Link to Entry details\;&nbsp\; <a href='https://events.humanitix.com/nz
 -national-u20s-2025'>https://events.humanitix.com/nz-national-u20s-2025</a
 ></p>\n<p>&nbsp\;</p>
DTSTART;TZID=Pacific/Auckland:20250412T080000
DTEND;TZID=Pacific/Auckland:20250413T170000
SUMMARY:National Junior Championships - Confirmed date
URL:https://bratac.hosts.net.nz/~fencing/events/events-calendar/27-fenz/250
 -national-junior-championships
END:VEVENT
BEGIN:VEVENT
UID:20250328T080000NZDT-3837Rlgwrj@https://www.fencing.org.nz/
DTSTAMP:20260424T132900Z
CATEGORIES:FeNZ
DESCRIPTION:<p>Venue will be Wellington High School\, Taranaki Street\, Wel
 lington.&nbsp\; Information and enrolement form can be found here:</p>\n<p
 ><a href='https://docs.google.com/forms/d/e/1FAIpQLSf1c9QpryIDMEs4fd-YA0LV
 Hr4wy49KWcM6YEq4ZLdROWrLMg/viewform'>https://docs.google.com/forms/d/e/1FA
 IpQLSf1c9QpryIDMEs4fd-YA0LVHr4wy49KWcM6YEq4ZLdROWrLMg/viewform</a></p>\n<p
 >Event Schedule:</p>\n<p>Times shown are FENCING Start Times.&nbsp\; &nbsp
 \;** Times are approximate</p>\n<p><strong>Friday 18th April</strong></p>
 \n<p>8:30am&nbsp\;&nbsp\;&nbsp\;&nbsp\;&nbsp\;&nbsp\;&nbsp\;&nbsp\;&nbsp\;
  U15 Men’s Foil<br />8:45am&nbsp\;&nbsp\;&nbsp\;&nbsp\;&nbsp\;&nbsp\;&nbsp
 \;&nbsp\;&nbsp\; U15 Women’s Epee<br />9:15am&nbsp\;&nbsp\;&nbsp\;&nbsp\;&
 nbsp\;&nbsp\;&nbsp\;&nbsp\;&nbsp\; Cadet Women’s Sabre<br />9:15am&nbsp\;&
 nbsp\;&nbsp\;&nbsp\;&nbsp\;&nbsp\;&nbsp\;&nbsp\;&nbsp\; Cadet Men’s Sabre<
 br />**11:15&nbsp\;&nbsp\;&nbsp\;&nbsp\;&nbsp\;&nbsp\;&nbsp\;&nbsp\; Cadet
  Women’s Foil<br />**12:00pm&nbsp\;&nbsp\; Cadet Men’s Sabre Teams<br />**
 12:00pm&nbsp\;&nbsp\; Cadet Women’s Sabre Teams<br />**1:00pm&nbsp\;&nbsp\
 ;&nbsp\;&nbsp\; U15 Men’s Foil Teams<br />**1.30pm&nbsp\;&nbsp\;&nbsp\;&nb
 sp\; U15 Women’s Epee Teams<br />**3:00pm&nbsp\;&nbsp\;&nbsp\;&nbsp\; Cade
 t Women’s Foil Teams</p>\n<p><strong>Saturday 19<sup>th</sup> April</stron
 g><strong>&nbsp\;</strong></p>\n<p>8:30am&nbsp\;&nbsp\;&nbsp\;&nbsp\;&nbsp
 \;&nbsp\;&nbsp\;&nbsp\;&nbsp\; U15 Men’s Epee<br />8:45am&nbsp\;&nbsp\;&nb
 sp\;&nbsp\;&nbsp\;&nbsp\;&nbsp\;&nbsp\;&nbsp\; U15 Women’s Foil<br />9:15a
 m&nbsp\;&nbsp\;&nbsp\;&nbsp\;&nbsp\;&nbsp\;&nbsp\;&nbsp\;&nbsp\; Cadet Men
 ’s Foil<br />10:30am&nbsp\;&nbsp\;&nbsp\;&nbsp\;&nbsp\;&nbsp\; Under 15 Me
 n’s Sabre<br />10:30am&nbsp\;&nbsp\;&nbsp\;&nbsp\;&nbsp\;&nbsp\; Under 15 
 Women’s Sabre<br />**11:00&nbsp\;&nbsp\;&nbsp\;&nbsp\;&nbsp\;&nbsp\;&nbsp\
 ;&nbsp\; Cadet Women’s Epee<br />**12:30pm&nbsp\;&nbsp\; U15 Men’s Epee Te
 ams<br />**12:30pm&nbsp\;&nbsp\; U15 Women’s Foil Teams<br />**1pm&nbsp\;&
 nbsp\;&nbsp\;&nbsp\;&nbsp\;&nbsp\;&nbsp\;&nbsp\;&nbsp\;&nbsp\; U15 Sabre T
 eams<br />**1:30pm&nbsp\;&nbsp\;&nbsp\;&nbsp\; Cadet Men’s Foil Teams</p>
 \n<p><strong>Sunday 20<sup>th</sup> April</strong></p>\n<p>8:30am&nbsp\;&n
 bsp\;&nbsp\;&nbsp\;&nbsp\;&nbsp\;&nbsp\;&nbsp\;&nbsp\; Cadet Men’s Epee<br
  />10:30am&nbsp\;&nbsp\;&nbsp\;&nbsp\;&nbsp\;&nbsp\; Cadet Women’s Epee Te
 ams<br />**12:00pm&nbsp\;&nbsp\; Cadet Men’s Epee Teams</p>\n<p>Team event
 s from Friday that are unable to be completed\, will be continued on Satur
 day morning commencing at 8:00am.<br /> Team events from Saturday be unabl
 e to be completed will be continued on Sunday morning commencing at 8:00am
 .</p>
DTSTART;TZID=Pacific/Auckland:20250418T080000
DTEND;TZID=Pacific/Auckland:20250420T170000
SUMMARY:National U15 & Cadet Championships
URL:https://bratac.hosts.net.nz/~fencing/events/events-calendar/27-fenz/243
 -national-u15-cadet-championships
END:VEVENT
END:VCALENDAR
