BEGIN:VCALENDAR
VERSION:2.0
PRODID:-//https://bratac.hosts.net.nz/~fencing//NONSGML kigkonsult.se iCalc
 reator 2.23.20//
METHOD:PUBLISH
X-WR-CALNAME:JCal Pro Calendar
X-WR-CALDESC:Your online events calendar
X-WR-TIMEZONE:Pacific/Auckland
BEGIN:VTIMEZONE
TZID:Pacific/Auckland
BEGIN:STANDARD
DTSTART:20250406T030000
TZOFFSETFROM:+1300
TZOFFSETTO:+1200
RDATE:20260405T030000
TZNAME:NZST
END:STANDARD
BEGIN:DAYLIGHT
DTSTART:20250928T020000
TZOFFSETFROM:+1200
TZOFFSETTO:+1300
RDATE:20260927T020000
TZNAME:NZDT
END:DAYLIGHT
END:VTIMEZONE
BEGIN:VEVENT
UID:20250503T080000NZST-25571IDX8i@https://www.fencing.org.nz/
DTSTAMP:20260424T114449Z
CATEGORIES:South
DESCRIPTION:
DTSTART;TZID=Pacific/Auckland:20250503T080000
DTEND;TZID=Pacific/Auckland:20250504T170100
SUMMARY:Ted Nye
URL:https://bratac.hosts.net.nz/~fencing/events/events-calendar/29-south/25
 1-ted-nye
END:VEVENT
BEGIN:VEVENT
UID:20250503T090000NZST-8806gUOuej@https://www.fencing.org.nz/
DTSTAMP:20260424T114449Z
CATEGORIES:Mid South
DESCRIPTION:
DTSTART;TZID=Pacific/Auckland:20250503T090000
DTEND;TZID=Pacific/Auckland:20250504T150000
SUMMARY:Mid South U20s
URL:https://bratac.hosts.net.nz/~fencing/events/events-calendar/25-mid-sout
 h/273-mid-south-u20s
END:VEVENT
BEGIN:VEVENT
UID:20250523T080000NZST-5524suzDri@https://www.fencing.org.nz/
DTSTAMP:20260424T114449Z
CATEGORIES:International
DESCRIPTION:<p>AFF - The Australian National Championships will be noe be h
 eld at</p>\n<p>West Hall\, Sydney Olympic Park</p>\n<p><span class='tribe-
 address'><span class='tribe-street-address'>Sports Halls\, 1 Grand Parade<
 /span><br /><span class='tribe-locality'>Sydney Olympic Park</span><span c
 lass='tribe-delimiter'>\,</span>&nbsp\;<abbr class='tribe-region tribe-eve
 nts-abbr' title='NSW'>NSW</abbr>&nbsp\;<span class='tribe-postal-code'>212
 7</span>&nbsp\;<span class='tribe-country-name'>Australia</span></span></p
 >\n<p>&nbsp\;</p>\n<p>Link&nbsp\; &nbsp\;<a href='https://www.ausfencing.o
 rg/tribe-events/2025-australian-national-championships/'>https://www.ausfe
 ncing.org/tribe-events/2025-australian-national-championships/</a></p>\n<p
 >&nbsp\;</p>\n<p>Was previously to be held at the Duncan Fairweather<br />
 Fencing Centre in Sydney\, New South Wales from&nbsp\;16 May to 20 May 202
 5.</p>\n<p>Additioanl details will be found on the AFF site:&nbsp\;<a href
 ='https://www.ausfencing.org/tribe-events/'>https://www.ausfencing.org/tri
 be-events/</a></p>
DTSTART;TZID=Pacific/Auckland:20250516T080000
DTEND;TZID=Pacific/Auckland:20250520T210000
SUMMARY:AFF - National Open Championships
URL:https://bratac.hosts.net.nz/~fencing/events/events-calendar/30-internat
 ional/237-aff-national-open-championships
END:VEVENT
BEGIN:VEVENT
UID:20250517T090000NZST-0474AGkRVb@https://www.fencing.org.nz/
DTSTAMP:20260424T114449Z
CATEGORIES:Mid South
DESCRIPTION:
DTSTART;TZID=Pacific/Auckland:20250517T090000
DTEND;TZID=Pacific/Auckland:20250518T150000
SUMMARY:Mid South Secondary Schools 2
URL:https://bratac.hosts.net.nz/~fencing/events/events-calendar/25-mid-sout
 h/271-mid-south-secondary-schools-2
END:VEVENT
BEGIN:VEVENT
UID:20250518T080000NZST-0656ZDV9lG@https://www.fencing.org.nz/
DTSTAMP:20260424T114449Z
CATEGORIES:South
DESCRIPTION:
DTSTART;TZID=Pacific/Auckland:20250518T080000
DTEND;TZID=Pacific/Auckland:20250518T180000
SUMMARY:South Age Group Competition
URL:https://bratac.hosts.net.nz/~fencing/events/events-calendar/29-south/25
 2-south-age-group-competition
END:VEVENT
BEGIN:VEVENT
UID:20250518T080000NZST-8184m5fLS1@https://www.fencing.org.nz/
DTSTAMP:20260424T114449Z
CATEGORIES:North
DESCRIPTION:
DTSTART;TZID=Pacific/Auckland:20250525T080000
DTEND;TZID=Pacific/Auckland:20250525T090000
SUMMARY:North Secondary Schools #1
URL:https://bratac.hosts.net.nz/~fencing/events/events-calendar/26-north/27
 6-north-secondary-schools-1
END:VEVENT
BEGIN:VEVENT
UID:20250531T080000NZST-6945U7ia2K@https://www.fencing.org.nz/
DTSTAMP:20260424T114449Z
CATEGORIES:FeNZ
DESCRIPTION:<h2><strong>North Island Championships 2025</strong></h2>\n<p><
 br />Fencing Central\, Fencing New Zealand and Wellington City Council inv
 ite you to attend the <strong>North Island Championships and Veteran Foil 
 2025</strong> on Saturday 31st May to Sunday 1st June in Wellington\, New 
 Zealand.</p>\n<p><strong>Entries due:</strong> 10:00pm Friday 23rd May 202
 5. Late entries after this date are at the discretion of the DT and Tourna
 ment Organiser's\, they will incur a $50 late fee.</p>\n<p><strong>For any
  queries or withdrawals please contact:</strong> <br />Nicole Martin <span
  id='cloak606bf6ed058bdd655345ab38b2e3f169'>This email address is being pr
 otected from spambots. You need JavaScript enabled to view it.</span><scri
 pt type='text/javascript'>
				document.getElementById('cloak606bf6ed058bdd6553
 45ab38b2e3f169').innerHTML = ''\;
				var prefix = '&#109\;a' + 'i&#108\;' + '&
 #116\;o'\;
				var path = 'hr' + 'ef' + '='\;
				var addy606bf6ed058bdd655345ab38b2
 e3f169 = 't&#111\;&#117\;rn&#97\;m&#101\;nts' + '&#64\;'\;
				addy606bf6ed058b
 dd655345ab38b2e3f169 = addy606bf6ed058bdd655345ab38b2e3f169 + 'f&#101\;nc&
 #105\;ngc&#101\;ntr&#97\;l' + '&#46\;' + '&#111\;rg' + '&#46\;' + 'nz'\;
				va
 r addy_text606bf6ed058bdd655345ab38b2e3f169 = 't&#111\;&#117\;rn&#97\;m&#1
 01\;nts' + '&#64\;' + 'f&#101\;nc&#105\;ngc&#101\;ntr&#97\;l' + '&#46\;' +
  '&#111\;rg' + '&#46\;' + 'nz'\;document.getElementById('cloak606bf6ed058b
 dd655345ab38b2e3f169').innerHTML += '<a ' + path + '\'' + prefix + ':' + a
 ddy606bf6ed058bdd655345ab38b2e3f169 + '\'>'+addy_text606bf6ed058bdd655345a
 b38b2e3f169+'<\/a>'\;
		</script> / 027 229 6102</p>\n<p><strong>Information 
 Sheet:</strong> <br /><a href='https://docs.google.com/document/d/1z1WJsP5
 s4ub9Y9k-CAnLbMlJfC9-BK0u/edit?tab=t.0'>Full Timetable and Information for
  this event can be found here.</a></p>\n<p><strong>Venue:</strong> <br /> 
 Wellington High School<br /> 249 Taranaki Street<br /> Wellington</p>\n<p>
 Fencing Central would like to acknowledge and thank Wellington City Counci
 l for their generous support in organising this competition.</p>
DTSTART;TZID=Pacific/Auckland:20250531T080000
DTEND;TZID=Pacific/Auckland:20250601T170000
SUMMARY:North Island Championships & Veteran Foil
URL:https://bratac.hosts.net.nz/~fencing/events/events-calendar/27-fenz/246
 -north-island-championships
END:VEVENT
END:VCALENDAR
