BEGIN:VCALENDAR
VERSION:2.0
PRODID:-//https://bratac.hosts.net.nz/~fencing//NONSGML kigkonsult.se iCalc
 reator 2.23.20//
METHOD:PUBLISH
X-WR-CALNAME:JCal Pro Calendar
X-WR-CALDESC:Your online events calendar
X-WR-TIMEZONE:Pacific/Auckland
BEGIN:VTIMEZONE
TZID:Pacific/Auckland
BEGIN:STANDARD
DTSTART:20250406T030000
TZOFFSETFROM:+1300
TZOFFSETTO:+1200
RDATE:20260405T030000
TZNAME:NZST
END:STANDARD
BEGIN:DAYLIGHT
DTSTART:20250928T020000
TZOFFSETFROM:+1200
TZOFFSETTO:+1300
RDATE:20260927T020000
TZNAME:NZDT
END:DAYLIGHT
END:VTIMEZONE
BEGIN:VEVENT
UID:20250809T090000NZST-2165wwcvFD@https://www.fencing.org.nz/
DTSTAMP:20260424T114452Z
CATEGORIES:Mid South
DESCRIPTION:
DTSTART;TZID=Pacific/Auckland:20250809T090000
DTEND;TZID=Pacific/Auckland:20250810T150000
SUMMARY:Mark Rance
URL:https://bratac.hosts.net.nz/~fencing/events/events-calendar/25-mid-sout
 h/272-mark-rance
END:VEVENT
BEGIN:VEVENT
UID:20250810T080000NZST-6579aMroop@https://www.fencing.org.nz/
DTSTAMP:20260424T114452Z
CATEGORIES:North
DESCRIPTION:
DTSTART;VALUE=DATE:20250810
DTEND;VALUE=DATE:20250811
SUMMARY:North Secondary Schools Championships 
URL:https://bratac.hosts.net.nz/~fencing/events/events-calendar/26-north/26
 6-north-secondary-schools-championships
END:VEVENT
BEGIN:VEVENT
UID:20250419T080000NZST-5412vnMDxv@https://www.fencing.org.nz/
DTSTAMP:20260424T114452Z
CATEGORIES:Central
DESCRIPTION:
DTSTART;TZID=Pacific/Auckland:20250816T080000
DTEND;TZID=Pacific/Auckland:20250817T170000
SUMMARY:Central Senior Championships
URL:https://bratac.hosts.net.nz/~fencing/events/events-calendar/28-central/
 244-central-senior-championships
END:VEVENT
BEGIN:VEVENT
UID:20250823T090000NZST-4846ogVZDo@https://www.fencing.org.nz/
DTSTAMP:20260424T114452Z
CATEGORIES:Mid South
DESCRIPTION:
DTSTART;TZID=Pacific/Auckland:20250823T090000
DTEND;TZID=Pacific/Auckland:20250824T150000
SUMMARY:Mid South Secondary School Championships
URL:https://bratac.hosts.net.nz/~fencing/events/events-calendar/25-mid-sout
 h/274-mid-south-secondary-school-championships
END:VEVENT
BEGIN:VEVENT
UID:20250830T080000NZST-8590pF2ofu@https://www.fencing.org.nz/
DTSTAMP:20260424T114452Z
CATEGORIES:South
DESCRIPTION:
DTSTART;TZID=Pacific/Auckland:20250830T080000
DTEND;TZID=Pacific/Auckland:20250831T170000
SUMMARY:South Senior Championships
URL:https://bratac.hosts.net.nz/~fencing/events/events-calendar/29-south/25
 4-south-senior-championships
END:VEVENT
BEGIN:VEVENT
UID:20250830T080000NZST-1985ilHv4X@https://www.fencing.org.nz/
DTSTAMP:20260424T114452Z
CATEGORIES:FeNZ,Mid South
DESCRIPTION:<p>NZSSC is being held in Christchurch\,&nbsp\; &nbsp\; Schedul
 e will be added when available.</p>\n<p>VEnue is:&nbsp\;<strong>Pioneer St
 adium\, 75 Lyttelton St\, Somerville\, Christchurch</strong></p>
DTSTART;TZID=Pacific/Auckland:20250830T080000
DTEND;TZID=Pacific/Auckland:20250831T170000
SUMMARY:National Secondary Schools
URL:https://bratac.hosts.net.nz/~fencing/events/events-calendar/27-fenz/261
 -national-secondary-schools
END:VEVENT
END:VCALENDAR
