BEGIN:VCALENDAR
VERSION:2.0
PRODID:-//https://bratac.hosts.net.nz/~fencing//NONSGML kigkonsult.se iCalc
 reator 2.23.20//
METHOD:PUBLISH
X-WR-CALNAME:JCal Pro Calendar
X-WR-CALDESC:Your online events calendar
X-WR-TIMEZONE:Pacific/Auckland
BEGIN:VTIMEZONE
TZID:Pacific/Auckland
BEGIN:STANDARD
DTSTART:20250406T030000
TZOFFSETFROM:+1300
TZOFFSETTO:+1200
RDATE:20260405T030000,20270404T030000
TZNAME:NZST
END:STANDARD
BEGIN:DAYLIGHT
DTSTART:20250928T020000
TZOFFSETFROM:+1200
TZOFFSETTO:+1300
RDATE:20260927T020000
TZNAME:NZDT
END:DAYLIGHT
END:VTIMEZONE
BEGIN:VEVENT
UID:20251011T080000NZDT-11382uwzGV@https://www.fencing.org.nz/
DTSTAMP:20260424T114521Z
CATEGORIES:Central
DESCRIPTION:
DTSTART;TZID=Pacific/Auckland:20251004T080000
DTEND;TZID=Pacific/Auckland:20251005T170000
SUMMARY:Central Open Championships
URL:https://bratac.hosts.net.nz/~fencing/events/events-calendar/28-central/
 247-central-open
END:VEVENT
BEGIN:VEVENT
UID:20251004T090000NZDT-9454Sf3hLR@https://www.fencing.org.nz/
DTSTAMP:20260424T114521Z
CATEGORIES:Mid South
DESCRIPTION:
DTSTART;TZID=Pacific/Auckland:20251004T090000
DTEND;TZID=Pacific/Auckland:20251005T150000
SUMMARY:Mid South Open
URL:https://bratac.hosts.net.nz/~fencing/events/events-calendar/25-mid-sout
 h/275-mid-south-open
END:VEVENT
BEGIN:VEVENT
UID:20251025T080000NZDT-7701MhpamJ@https://www.fencing.org.nz/
DTSTAMP:20260424T114521Z
CATEGORIES:International,FeNZ
DESCRIPTION:<p>VENUE is:&nbsp\; &nbsp\; &nbsp\; AUCKLAND NETBALL CENTRE - 7
  Allison Ferguson Drive\, St. Johns\, Auckland 1072</p>\n<p><a href='http:
 //www.aucklandnetball.co.nz/'>http://www.aucklandnetball.co.nz</a></p>\n<p
 >&nbsp\;<br /><span style='text-decoration: line-through\;'></span><a href
 ='https://events.humanitix.com/oceania-nzsenior-veterans-2025'><b>LINK TO 
 BOOKING PAGE</b></a></p>
DTSTART;TZID=Pacific/Auckland:20251025T080000
DTEND;TZID=Pacific/Auckland:20251027T170000
SUMMARY:Oceania and National Senior & Veteran Championships
URL:https://bratac.hosts.net.nz/~fencing/events/events-calendar/30-internat
 ional/249-oceania-and-national-senior-veteran-championships
END:VEVENT
END:VCALENDAR
