BEGIN:VCALENDAR
VERSION:2.0
PRODID:-//https://bratac.hosts.net.nz/~fencing//NONSGML kigkonsult.se iCalc
 reator 2.23.20//
METHOD:PUBLISH
X-WR-CALNAME:JCal Pro Calendar
X-WR-CALDESC:Your online events calendar
X-WR-TIMEZONE:Pacific/Auckland
BEGIN:VTIMEZONE
TZID:Pacific/Auckland
BEGIN:STANDARD
DTSTART:20260405T030000
TZOFFSETFROM:+1300
TZOFFSETTO:+1200
RDATE:20270404T030000
TZNAME:NZST
END:STANDARD
BEGIN:DAYLIGHT
DTSTART:20260927T020000
TZOFFSETFROM:+1200
TZOFFSETTO:+1300
RDATE:20270926T020000
TZNAME:NZDT
END:DAYLIGHT
END:VTIMEZONE
BEGIN:VEVENT
UID:20260710T080000NZST-67048nEtoL@https://www.fencing.org.nz/
DTSTAMP:20260424T132923Z
CATEGORIES:FeNZ
DESCRIPTION:<p>To be held in Upper Hutt\, Wellington</p>
DTSTART;TZID=Pacific/Auckland:20260710T080000
DTEND;TZID=Pacific/Auckland:20260712T163000
SUMMARY:National Junior Championships
URL:https://bratac.hosts.net.nz/~fencing/events/events-calendar/27-fenz/297
 -national-junior-championships
END:VEVENT
BEGIN:VEVENT
UID:20260719T080000NZST-7555IKuvFE@https://www.fencing.org.nz/
DTSTAMP:20260424T132923Z
CATEGORIES:North
DESCRIPTION:<p>Auckland</p>
DTSTART;TZID=Pacific/Auckland:20260719T080000
DTEND;TZID=Pacific/Auckland:20260719T180000
SUMMARY:McLeavey Memorial (Ranking)
URL:https://bratac.hosts.net.nz/~fencing/events/events-calendar/26-north/29
 8-macleavy-championships-ranking
END:VEVENT
BEGIN:VEVENT
UID:20260815T080000NZST-3601ooED9l@https://www.fencing.org.nz/
DTSTAMP:20260424T132923Z
CATEGORIES:South
DESCRIPTION:<p>Dunedin</p>
DTSTART;TZID=Pacific/Auckland:20260726T080000
DTEND;TZID=Pacific/Auckland:20260726T180000
SUMMARY:South Age Group Championships
URL:https://bratac.hosts.net.nz/~fencing/events/events-calendar/29-south/29
 9-south-age-group-championships
END:VEVENT
BEGIN:VEVENT
UID:20260801T080000NZST-6092U1gN6n@https://www.fencing.org.nz/
DTSTAMP:20260424T132923Z
CATEGORIES:Mid South
DESCRIPTION:
DTSTART;TZID=Pacific/Auckland:20260801T080000
DTEND;TZID=Pacific/Auckland:20260802T173300
SUMMARY:Mid-South Secondary Schools Championships
URL:https://bratac.hosts.net.nz/~fencing/events/events-calendar/25-mid-sout
 h/311-mid-south-secondary-schools-championships
END:VEVENT
END:VCALENDAR
