BEGIN:VCALENDAR
VERSION:2.0
PRODID:-//https://bratac.hosts.net.nz/~fencing//NONSGML kigkonsult.se iCalc
 reator 2.23.20//
METHOD:PUBLISH
X-WR-CALNAME:JCal Pro Calendar
X-WR-CALDESC:Your online events calendar
X-WR-TIMEZONE:Pacific/Auckland
BEGIN:VTIMEZONE
TZID:Pacific/Auckland
BEGIN:STANDARD
DTSTART:20210404T030000
TZOFFSETFROM:+1300
TZOFFSETTO:+1200
RDATE:20220403T030000
TZNAME:NZST
END:STANDARD
BEGIN:DAYLIGHT
DTSTART:20210926T020000
TZOFFSETFROM:+1200
TZOFFSETTO:+1300
RDATE:20220925T020000
TZNAME:NZDT
END:DAYLIGHT
END:VTIMEZONE
BEGIN:VEVENT
UID:20210807T100000NZST-2412fNX8RN@https://www.fencing.org.nz/
DTSTAMP:20260424T114258Z
CATEGORIES:FeNZ,Central
DESCRIPTION:<h3>Timetable for North Island Champs-Saturday 7th August\, Sun
 day 8th August</h3>\n<p><span style='text-decoration: underline\;'><strong
 >Saturday 7th August</strong></span></p>\n<p>8:15am Men’s Foil Registratio
 n Opens</p>\n<p>8:30am Men’s Foil Registration Closes</p>\n<p>9am Men’s Fo
 il</p>\n<p>10:15am Women’s Epee Registration Opens</p>\n<p>10:30pm Women’s
  Epee Registration Closes</p>\n<p>11am Women’s Epee</p>\n<p>1:30pm Sabre &
 amp\; Veteran Foil Registration Opens</p>\n<p>3pm Men’s &amp\; Women’s Sab
 re*</p>\n<p>3pm Veteran Foil*</p>\n<p>* Event will start after Men’s Foil 
 is finished.</p>\n<p><span style='text-decoration: underline\;'><strong>Su
 nday 8th August</strong></span></p>\n<p>8:15am Men’s Epee Registration Ope
 ns</p>\n<p>8:30am Men’s Epee Registration Closes</p>\n<p>9am Men’s Epee</p
 >\n<p>10:15am Women’s Foil Registration Opens</p>\n<p>10:30pm Women’s Foil
  Registration Closes</p>\n<p>11am Women’s Foil</p>
DTSTART;TZID=Pacific/Auckland:20210807T100000
DTEND;TZID=Pacific/Auckland:20210808T160000
SUMMARY:North Island Championships & Vet Foil - Wellington
URL:https://bratac.hosts.net.nz/~fencing/events/events-calendar/27-fenz/105
 -north-island-championships
END:VEVENT
BEGIN:VEVENT
UID:20210815T100000NZST-6297h05ioS@https://www.fencing.org.nz/
DTSTAMP:20260424T114258Z
CATEGORIES:South
DESCRIPTION:
DTSTART;TZID=Pacific/Auckland:20210815T100000
DTEND;TZID=Pacific/Auckland:20210815T110000
SUMMARY:South Age Group #3
URL:https://bratac.hosts.net.nz/~fencing/events/events-calendar/29-south/11
 3-south-age-group-3
END:VEVENT
BEGIN:VEVENT
UID:20210828T100000NZST-8822IMUcIS@https://www.fencing.org.nz/
DTSTAMP:20260424T114258Z
CATEGORIES:FeNZ,Mid South
DESCRIPTION:<h3>Registration for the competitions - closes 11th August 2021
 </h3>\n<p><a href='https://www.revolutionise.com.au/fencingmidsouth/events
 /88576/?fbclid=IwAR1k8EQCZlYNVPDfdAPWhQ3Zt1Xi7exwmOGRfh-RKRqqONwA2ZI3g0YQU
 4g'>https://www.revolutionise.com.au/fencingmidsouth/events/88576/?fbclid=
 IwAR1k8EQCZlYNVPDfdAPWhQ3Zt1Xi7exwmOGRfh-RKRqqONwA2ZI3g0YQU4g</a></p>\n<h3
 >&nbsp\;</h3>\n<h3>Timetable for National Secondary School Championships: 
 Saturday 28th\, Sunday 29th\, Monday 30th August</h3>\n<p><span style='tex
 t-decoration: underline\;'><strong>Saturday 28th August</strong></span></p
 >\n<p>8:15am Men’s Foil Registration Opens</p>\n<p>8:30am Men’s Foil Regis
 tration Closes</p>\n<p>9am Men’s Foil</p>\n<p>9:45am Women’s Epee Registra
 tion Opens</p>\n<p>10am Women’s Epee Registration Closes</p>\n<p>10:30am W
 omen’s Epee</p>\n<p>3:30pm Men’s Foil Teams*</p>\n<p>3pm Women’s Epee Team
 s^</p>\n<ul>\n<li>Event will start after Men’s Foil Individual Event is fi
 nished.</li>\n</ul>\n<p>^ Event will start after Women’s Epee Individual E
 vent is finished.</p>\n<p><span style='text-decoration: underline\;'><stro
 ng>Sunday 29th August</strong></span></p>\n<p>8.30am Men’s Foil Teams if n
 ot finished on Day One</p>\n<p>9.30am Women’s Epee Teams if not finished o
 n Day One</p>\n<p>9.45am to 10am Men’s Epee Registration</p>\n<p>10:30am M
 en’s Epee Poules Start<br /> 10.15am to 10.30am Women’s Foil Registration<
 /p>\n<p>11am Women’s Foil Poules Start</p>\n<p>Evening: Event Dinner</p>\n
 <p><span style='text-decoration: underline\;'><strong>Monday 30th August</
 strong></span></p>\n<p>8am Men’s Epee Teams &amp\; Women’s Foil Team Regis
 tration Opens</p>\n<p>8.15am Men’s Epee Teams &amp\; Women’s Foil Team Reg
 istration Closes</p>\n<p>8.45am Men’s Epee &amp\; Women’s Foil Teams Start
 <br /> 11am Men’s &amp\; Women’s Sabre Registration Opens</p>\n<p>11.15am 
 Men’s &amp\; Women’s Sabre Registration Closes</p>\n<p>12.15pm Sabre Poule
 s Start*</p>\n<p>3pm Sabre Teams Start^</p>\n<ul>\n<li>Event will start af
 ter Men’s Epee Teams finishes</li>\n</ul>\n<p>^ Event will start straight 
 after Sabre Individual Event is finished.</p>
DTSTART;TZID=Pacific/Auckland:20210828T100000
DTEND;TZID=Pacific/Auckland:20210830T160000
SUMMARY:NZ Secondary School Championships - Christchurch - CANCELLED
URL:https://bratac.hosts.net.nz/~fencing/events/events-calendar/27-fenz/106
 -nz-secondary-school-championships
END:VEVENT
END:VCALENDAR
