BEGIN:VCALENDAR
VERSION:2.0
PRODID:-//https://bratac.hosts.net.nz/~fencing//NONSGML kigkonsult.se iCalc
 reator 2.23.20//
METHOD:PUBLISH
X-WR-CALNAME:JCal Pro Calendar
X-WR-CALDESC:Your online events calendar
X-WR-TIMEZONE:Pacific/Auckland
BEGIN:VTIMEZONE
TZID:Pacific/Auckland
BEGIN:STANDARD
DTSTART:20210404T030000
TZOFFSETFROM:+1300
TZOFFSETTO:+1200
RDATE:20220403T030000,20230402T030000
TZNAME:NZST
END:STANDARD
BEGIN:DAYLIGHT
DTSTART:20210926T020000
TZOFFSETFROM:+1200
TZOFFSETTO:+1300
RDATE:20220925T020000
TZNAME:NZDT
END:DAYLIGHT
END:VTIMEZONE
BEGIN:VEVENT
UID:20211002T100000NZDT-9645o9xCIr@https://www.fencing.org.nz/
DTSTAMP:20260424T151536Z
CATEGORIES:South
DESCRIPTION:
DTSTART;TZID=Pacific/Auckland:20211002T100000
DTEND;TZID=Pacific/Auckland:20211003T160000
SUMMARY:South Championships and Age Group #4
URL:https://bratac.hosts.net.nz/~fencing/events/events-calendar/29-south/11
 5-south-championships-and-age-group-4
END:VEVENT
BEGIN:VEVENT
UID:20211023T100000NZDT-5235XIr4Us@https://www.fencing.org.nz/
DTSTAMP:20260424T151536Z
CATEGORIES:International,FeNZ
DESCRIPTION:<h3>Oceania &amp\; NZ National Open &amp\; NZ Veteran Champions
 hips 2021 Timetable</h3>\n<p><span style='text-decoration: underline\;'><s
 trong>Saturday 23rd October</strong></span></p>\n<p>7.45am Men’s Foil Regi
 stration Opens</p>\n<p>8am Men’s Foil Registration Closes<br /> 8.30am Men
 ’s Foil Poules Start<br /> 10.15am Women’s Epee Registration Opens</p>\n<p
 >10.30am Women’s Foil Registration Closes<br /> 11am Women’s Epee Poules S
 tart<br /> 1.30pm Men’s &amp\; Women’s Sabre Registration Opens</p>\n<p>1.
 45pm Men’s &amp\; Women’s Sabre Registration Closes</p>\n<p>3pm Men’s &amp
 \; Women’s Sabre Starts*</p>\n<p>3:30pm OFC Men’s Foil Teams*</p>\n<p>4pm 
 OFC Women’s Epee Teams^</p>\n<p>*Starting time could vary depending finish
  time of Men’s Foil.</p>\n<p>^Starting time could vary depending finish ti
 me of Women’s Epee.</p>\n<p><span style='text-decoration: underline\;'><st
 rong>Sunday 24th October</strong></span></p>\n<p>8.30am OFC Men’s Foil Tea
 ms if not finished on Day One</p>\n<p>9.30am OFC Women’s Epee Teams if not
  finished on Day One</p>\n<p>9.45am Men’s Epee Registration Opens</p>\n<p>
 10am Men’s Epee Registration Closes</p>\n<p>10:30am Men’s Epee Poules Star
 t<br /> 10.15am Women’s Foil Registration Opens</p>\n<p>10:30am Women’s Fo
 il Registration Closes</p>\n<p>11am Women’s Foil Poules Start</p>\n<p>2.30
 pm Veteran Mixed Sabre Registration Opens</p>\n<p>2.45pm Veteran Mixed Sab
 re Registration Closes</p>\n<p>4pm Veteran Mixed Sabre Starts*</p>\n<p>4:3
 0pm OFC Sabre Teams*<br /> *Starting time could vary depending finish time
  of Men’s Epee.</p>\n<p>&nbsp\;</p>\n<p><span style='text-decoration: unde
 rline\;'><strong>Monday 25th October</strong></span></p>\n<p>7.45am Men’s 
 Epee Teams &amp\; Women’s Foil Team + Veteran Epee Registration Opens</p>
 \n<p>8am Men’s Epee Teams &amp\; Women’s Foil Team + Veteran Epee Registra
 tion Closes</p>\n<p>8.30am Veteran Epee Poules Start<br /> 8.45am OFC Men’
 s Epee &amp\; OFC Women’s Foil Teams Start<br /> 12pm Veteran Foil Registr
 ation Opens</p>\n<p>12.15pm Veteran Foil Registration Closes</p>\n<p>1pm V
 eteran Foil Start*</p>\n<p>*Starting time could vary depending finish time
  of Veteran Epee.</p>\n<p>‘NB The OFC events can only be held if travel be
 tween Oceania member countries is allowed. The OFC will confirm whether th
 e events will be held closer to the date of each Championship.’</p>
DTSTART;TZID=Pacific/Auckland:20211023T100000
DTEND;TZID=Pacific/Auckland:20211025T160000
SUMMARY:Oceanic and NZ Open Championships - Auckland - CANCELLED
URL:https://bratac.hosts.net.nz/~fencing/events/events-calendar/30-internat
 ional/108-oceanic-and-nz-open-championships
END:VEVENT
END:VCALENDAR
