BEGIN:VCALENDAR
VERSION:2.0
PRODID:-//https://bratac.hosts.net.nz/~fencing//NONSGML kigkonsult.se iCalc
 reator 2.23.20//
METHOD:PUBLISH
X-WR-CALNAME:JCal Pro Calendar
X-WR-CALDESC:Your online events calendar
X-WR-TIMEZONE:Pacific/Auckland
BEGIN:VTIMEZONE
TZID:Pacific/Auckland
BEGIN:STANDARD
DTSTART:20220403T030000
TZOFFSETFROM:+1300
TZOFFSETTO:+1200
RDATE:20230402T030000
TZNAME:NZST
END:STANDARD
BEGIN:DAYLIGHT
DTSTART:20210926T020000
TZOFFSETFROM:+1200
TZOFFSETTO:+1300
RDATE:20220925T020000
TZNAME:NZDT
END:DAYLIGHT
END:VTIMEZONE
BEGIN:VEVENT
UID:20220205T080000NZDT-1691fCAhsb@https://www.fencing.org.nz/
DTSTAMP:20260424T214014Z
CATEGORIES:FeNZ
DESCRIPTION:<p>This is a National event ranking tournament Open and Veteran
 s</p>\n<p>Information Sheet:&nbsp\;<a href='https://fencingcentral.org.nz/
 competitions/FeNZ-Waitangi-Open-2022.pdf'>https://fencingcentral.org.nz/co
 mpetitions/FeNZ-Waitangi-Open-2022.pdf</a></p>\n<p>Competitor List:&nbsp\;
 https://docs.google.com/spreadsheets/d/1UOjetwsh-ud4x5FkI_ffUOvju4ROjHk-6i
 CRfsJIiLw/edit?usp=sharing</p>\n<p>Timetable for National Open Waitangi We
 ekend Competition</p>\n<p><strong> Timetable 5th to 7th February</strong><
 /p>\n<p><strong><span style='text-decoration: underline\;'> Saturday 5th F
 ebruary</span></strong></p>\n<p>7:45am Men’s Epee Registration Opens</p>\n
 <p>8am Men’s Epee Registration Closes</p>\n<p>8:30am Men’s Epee Starts</p>
 \n<p>10.45am&nbsp\;Women’s Foil&nbsp\;Registration Opens</p>\n<p>11.00am W
 omen’s Foil&nbsp\;Registration Closes</p>\n<p>11:30am Women’s Foil Starts<
 /p>\n<p>12.45pm Veteran's Foil&nbsp\;Registration Opens</p>\n<p>1.00pm Vet
 eran's Foil&nbsp\;Registration Closes</p>\n<p>1:30pm Veteran's Foil Starts
 </p>\n<p>&nbsp\;</p>\n<p><span style='text-decoration: underline\;'><stron
 g>Waitangi Day: Sunday 6th February</strong></span></p>\n<p>10.15am Vetera
 n's Sabre Registration Opens</p>\n<p>10.30am Veteran's Sabre Registration 
 Closes</p>\n<p>11:00am Veteran's Sabre Starts</p>\n<p>11.30am Men's and Wo
 men's Sabre Registration Opens</p>\n<p>11.45am Men's and Women's Sabre Reg
 istration Closes</p>\n<p>12.00pm&nbsp\;Men's and Women's Sabre Starts</p>
 \n<p>2.00pm Veteran's Epee Registration Opens</p>\n<p>2.15pm Veteran's Epe
 e Registration Closes</p>\n<p>2.45pm Veteran's Epee Starts&nbsp\;</p>\n<p>
 <strong style='background-color: inherit\; color: inherit\; font-family: i
 nherit\; font-size: 1rem\;'>Monday 7th February</strong></p>\n<p>7:45am Me
 n’s Foil Registration Opens</p>\n<p>8.00am Men’s Foil Registration Closes<
 /p>\n<p>8:30am Men’s Foil Starts</p>\n<p>8:45am Women’s Epee Registration 
 Opens</p>\n<p>9.00am Women’s Epee Registration Closes</p>\n<p>9:30am Women
 ’s Epee Starts</p>
DTSTART;TZID=Pacific/Auckland:20220205T080000
DTEND;TZID=Pacific/Auckland:20220207T180000
SUMMARY:Waitangi Weekend National Tournament - Wellington
URL:https://bratac.hosts.net.nz/~fencing/events/events-calendar/27-fenz/117
 -waitangi-weekend-national-tournament-wellington
END:VEVENT
END:VCALENDAR
