BEGIN:VCALENDAR
VERSION:2.0
PRODID:-//https://bratac.hosts.net.nz/~fencing//NONSGML kigkonsult.se iCalc
 reator 2.23.20//
METHOD:PUBLISH
X-WR-CALNAME:JCal Pro Calendar
X-WR-CALDESC:Your online events calendar
X-WR-TIMEZONE:Pacific/Auckland
BEGIN:VTIMEZONE
TZID:Pacific/Auckland
BEGIN:STANDARD
DTSTART:20230402T030000
TZOFFSETFROM:+1300
TZOFFSETTO:+1200
RDATE:20240407T030000
TZNAME:NZST
END:STANDARD
BEGIN:DAYLIGHT
DTSTART:20220925T020000
TZOFFSETFROM:+1200
TZOFFSETTO:+1300
RDATE:20230924T020000
TZNAME:NZDT
END:DAYLIGHT
END:VTIMEZONE
BEGIN:VEVENT
UID:20230204T170000NZDT-10608bRDMc@https://www.fencing.org.nz/
DTSTAMP:20260424T170437Z
CATEGORIES:Central
DESCRIPTION:<p>To be held in Whanganui</p>
DTSTART;TZID=Pacific/Auckland:20230204T170000
DTEND;TZID=Pacific/Auckland:20230205T180000
SUMMARY:Masters' Games
URL:https://bratac.hosts.net.nz/~fencing/events/events-calendar/28-central/
 156-masters-games
END:VEVENT
BEGIN:VEVENT
UID:20221212T130000NZDT-8053LMEETF@https://www.fencing.org.nz/
DTSTAMP:20260424T170437Z
CATEGORIES:North
DESCRIPTION:
DTSTART;VALUE=DATE:20230218
DTEND;VALUE=DATE:20230219
SUMMARY:W Dawn Memorial Tournament 
URL:https://bratac.hosts.net.nz/~fencing/events/events-calendar/26-north/16
 5-w-dawn-memorial-tournament
END:VEVENT
BEGIN:VEVENT
UID:20200301T090000NZDT-0806OUHH3b@https://www.fencing.org.nz/
DTSTAMP:20260424T170437Z
CATEGORIES:Central
DESCRIPTION:<p>VUWSC</p>\n<p>Email: <span id='cloakb1eba79c9c9f13494ecdb1c4
 c026e1db'>This email address is being protected from spambots. You need Ja
 vaScript enabled to view it.</span><script type='text/javascript'>
				document
 .getElementById('cloakb1eba79c9c9f13494ecdb1c4c026e1db').innerHTML = ''\;
				v
 ar prefix = '&#109\;a' + 'i&#108\;' + '&#116\;o'\;
				var path = 'hr' + 'ef' +
  '='\;
				var addyb1eba79c9c9f13494ecdb1c4c026e1db = 'v&#117\;wf&#101\;nc&#105
 \;ng' + '&#64\;'\;
				addyb1eba79c9c9f13494ecdb1c4c026e1db = addyb1eba79c9c9f1
 3494ecdb1c4c026e1db + 'gm&#97\;&#105\;l' + '&#46\;' + 'c&#111\;m'\;
				var add
 y_textb1eba79c9c9f13494ecdb1c4c026e1db = 'v&#117\;wf&#101\;nc&#105\;ng' + 
 '&#64\;' + 'gm&#97\;&#105\;l' + '&#46\;' + 'c&#111\;m'\;document.getElemen
 tById('cloakb1eba79c9c9f13494ecdb1c4c026e1db').innerHTML += '<a ' + path +
  '\'' + prefix + ':' + addyb1eba79c9c9f13494ecdb1c4c026e1db + '\'>'+addy_t
 extb1eba79c9c9f13494ecdb1c4c026e1db+'<\/a>'\;
		</script></p>\n<p>&nbsp\;</p>
DTSTART;TZID=Pacific/Auckland:20230218T090000
DTEND;TZID=Pacific/Auckland:20230219T100000
SUMMARY:Trefoil [Ranked Event]
URL:https://bratac.hosts.net.nz/~fencing/events/events-calendar/28-central/
 95-trefoil-vuwsc-and-central-agm
END:VEVENT
END:VCALENDAR
