BEGIN:VCALENDAR
VERSION:2.0
PRODID:-//https://bratac.hosts.net.nz/~fencing//NONSGML kigkonsult.se iCalc
 reator 2.23.20//
METHOD:PUBLISH
X-WR-CALNAME:JCal Pro Calendar
X-WR-CALDESC:Your online events calendar
X-WR-TIMEZONE:Pacific/Auckland
BEGIN:VTIMEZONE
TZID:Pacific/Auckland
BEGIN:STANDARD
DTSTART:20230402T030000
TZOFFSETFROM:+1300
TZOFFSETTO:+1200
RDATE:20240407T030000
TZNAME:NZST
END:STANDARD
BEGIN:DAYLIGHT
DTSTART:20220925T020000
TZOFFSETFROM:+1200
TZOFFSETTO:+1300
RDATE:20230924T020000
TZNAME:NZDT
END:DAYLIGHT
END:VTIMEZONE
BEGIN:VEVENT
UID:20230312T080000NZDT-0179P9ATEu@https://www.fencing.org.nz/
DTSTAMP:20260424T151627Z
CATEGORIES:North
DESCRIPTION:<p>&nbsp\;</p>\n<p>&nbsp\;</p>
DTSTART;VALUE=DATE:20230312
DTEND;VALUE=DATE:20230313
SUMMARY:Fencing North U15/U17 Championships
URL:https://bratac.hosts.net.nz/~fencing/events/events-calendar/26-north/16
 7-fencing-north-u15-u17-championships
END:VEVENT
BEGIN:VEVENT
UID:20230312T090000NZDT-9438UaKx1X@https://www.fencing.org.nz/
DTSTAMP:20260424T151627Z
CATEGORIES:South
DESCRIPTION:
DTSTART;TZID=Pacific/Auckland:20230312T090000
DTEND;TZID=Pacific/Auckland:20230313T160000
SUMMARY:South Age Group #1
URL:https://bratac.hosts.net.nz/~fencing/events/events-calendar/29-south/18
 0-south-age-group-1
END:VEVENT
BEGIN:VEVENT
UID:20200314T200000NZDT-0450HjPpEU@https://www.fencing.org.nz/
DTSTAMP:20260424T151627Z
CATEGORIES:Central
DESCRIPTION:<p>Email:&nbsp\;<span id='cloak807e2f0d3fe6164d412b6bbe812f977a
 '>This email address is being protected from spambots. You need JavaScript
  enabled to view it.</span><script type='text/javascript'>
				document.getElem
 entById('cloak807e2f0d3fe6164d412b6bbe812f977a').innerHTML = ''\;
				var prefi
 x = '&#109\;a' + 'i&#108\;' + '&#116\;o'\;
				var path = 'hr' + 'ef' + '='\;
				va
 r addy807e2f0d3fe6164d412b6bbe812f977a = 't&#111\;&#117\;rn&#97\;m&#101\;n
 ts' + '&#64\;'\;
				addy807e2f0d3fe6164d412b6bbe812f977a = addy807e2f0d3fe6164
 d412b6bbe812f977a + 'f&#101\;nc&#105\;ngc&#101\;ntr&#97\;l' + '&#46\;' + '
 &#111\;rg' + '&#46\;' + 'nz'\;
				var addy_text807e2f0d3fe6164d412b6bbe812f977
 a = 't&#111\;&#117\;rn&#97\;m&#101\;nts' + '&#64\;' + 'f&#101\;nc&#105\;ng
 c&#101\;ntr&#97\;l' + '&#46\;' + '&#111\;rg' + '&#46\;' + 'nz'\;document.g
 etElementById('cloak807e2f0d3fe6164d412b6bbe812f977a').innerHTML += '<a ' 
 + path + '\'' + prefix + ':' + addy807e2f0d3fe6164d412b6bbe812f977a + '\'>
 '+addy_text807e2f0d3fe6164d412b6bbe812f977a+'<\/a>'\;
		</script>&nbsp\;</p>
 \n<p>&nbsp\;</p>\n<p>&nbsp\;</p>
DTSTART;TZID=Pacific/Auckland:20230318T080000
DTEND;TZID=Pacific/Auckland:20230319T140000
SUMMARY:Central Under 15 and Cadet Championships
URL:https://bratac.hosts.net.nz/~fencing/events/events-calendar/28-central/
 96-central-u15-and-cadet
END:VEVENT
BEGIN:VEVENT
UID:20230326T180000NZDT-0340jRZ28X@https://www.fencing.org.nz/
DTSTAMP:20260424T151627Z
CATEGORIES:North
DESCRIPTION:
DTSTART;VALUE=DATE:20230326
DTEND;VALUE=DATE:20230327
SUMMARY:Northern  Secondary Schools #1
URL:https://bratac.hosts.net.nz/~fencing/events/events-calendar/26-north/16
 8-fencing-north-secondary-schools-1
END:VEVENT
END:VCALENDAR
