BEGIN:VCALENDAR
VERSION:2.0
PRODID:-//https://bratac.hosts.net.nz/~fencing//NONSGML kigkonsult.se iCalc
 reator 2.23.20//
METHOD:PUBLISH
X-WR-CALNAME:JCal Pro Calendar
X-WR-CALDESC:Your online events calendar
X-WR-TIMEZONE:Pacific/Auckland
BEGIN:VTIMEZONE
TZID:Pacific/Auckland
BEGIN:STANDARD
DTSTART:20230402T030000
TZOFFSETFROM:+1300
TZOFFSETTO:+1200
RDATE:20240407T030000
TZNAME:NZST
END:STANDARD
BEGIN:DAYLIGHT
DTSTART:20230924T020000
TZOFFSETFROM:+1200
TZOFFSETTO:+1300
RDATE:20240929T020000
TZNAME:NZDT
END:DAYLIGHT
END:VTIMEZONE
BEGIN:VEVENT
UID:20190525T100000NZST-7921u91xbv@http://bratac.hosts.net.nz/~fencing/
DTSTAMP:20260424T114331Z
CATEGORIES:Central
DESCRIPTION:<p>Email: <span id='cloakdadaee9b4789b884ecb3c435d077fe6b'>This
  email address is being protected from spambots. You need JavaScript enabl
 ed to view it.</span><script type='text/javascript'>
				document.getElementByI
 d('cloakdadaee9b4789b884ecb3c435d077fe6b').innerHTML = ''\;
				var prefix = '&
 #109\;a' + 'i&#108\;' + '&#116\;o'\;
				var path = 'hr' + 'ef' + '='\;
				var addy
 dadaee9b4789b884ecb3c435d077fe6b = 't&#111\;&#117\;rn&#97\;m&#101\;nts' + 
 '&#64\;'\;
				addydadaee9b4789b884ecb3c435d077fe6b = addydadaee9b4789b884ecb3c
 435d077fe6b + 'f&#101\;nc&#105\;ngc&#101\;ntr&#97\;l' + '&#46\;' + '&#111\
 ;rg' + '&#46\;' + 'nz'\;
				var addy_textdadaee9b4789b884ecb3c435d077fe6b = 't
 &#111\;&#117\;rn&#97\;m&#101\;nts' + '&#64\;' + 'f&#101\;nc&#105\;ngc&#101
 \;ntr&#97\;l' + '&#46\;' + '&#111\;rg' + '&#46\;' + 'nz'\;document.getElem
 entById('cloakdadaee9b4789b884ecb3c435d077fe6b').innerHTML += '<a ' + path
  + '\'' + prefix + ':' + addydadaee9b4789b884ecb3c435d077fe6b + '\'>'+addy
 _textdadaee9b4789b884ecb3c435d077fe6b+'<\/a>'\;
		</script>&nbsp\;</p>\n<p>&n
 bsp\;</p>
DTSTART;TZID=Pacific/Auckland:20230610T100000
DTEND;TZID=Pacific/Auckland:20230611T160000
SUMMARY:Central Championships [Ranked Event]
URL:https://bratac.hosts.net.nz/~fencing/events/events-calendar/28-central/
 33-central-champs
END:VEVENT
BEGIN:VEVENT
UID:20230611T070000NZST-2976U0D5Kf@https://www.fencing.org.nz/
DTSTAMP:20260424T114331Z
CATEGORIES:South
DESCRIPTION:
DTSTART;TZID=Pacific/Auckland:20230611T070000
DTEND;TZID=Pacific/Auckland:20230611T160000
SUMMARY:South Age Group #2
URL:https://bratac.hosts.net.nz/~fencing/events/events-calendar/29-south/18
 3-south-age-group-2
END:VEVENT
BEGIN:VEVENT
UID:20230611T080000NZST-2191FTfZ5h@https://www.fencing.org.nz/
DTSTAMP:20260424T114331Z
CATEGORIES:North
DESCRIPTION:
DTSTART;TZID=Pacific/Auckland:20230611T080000
DTEND;TZID=Pacific/Auckland:20230611T090000
SUMMARY:Fencing North Secondary Schools #2
URL:https://bratac.hosts.net.nz/~fencing/events/events-calendar/26-north/17
 1-fencing-north-secondary-schools-2
END:VEVENT
BEGIN:VEVENT
UID:20230617T080000NZST-7099u7NcN6@https://www.fencing.org.nz/
DTSTAMP:20260424T114331Z
CATEGORIES:Mid South
DESCRIPTION:
DTSTART;VALUE=DATE:20230617
DTEND;VALUE=DATE:20230618
SUMMARY:Mid South Junior
URL:https://bratac.hosts.net.nz/~fencing/events/events-calendar/25-mid-sout
 h/188-mid-south-junior
END:VEVENT
BEGIN:VEVENT
UID:20230624T080000NZST-7151hP6uBV@https://www.fencing.org.nz/
DTSTAMP:20260424T114331Z
CATEGORIES:Mid South
DESCRIPTION:<p>In memory of Keith Mann</p>
DTSTART;TZID=Pacific/Auckland:20230624T080000
DTEND;TZID=Pacific/Auckland:20230625T170000
SUMMARY:Keith Mann (Ranked Event)
URL:https://bratac.hosts.net.nz/~fencing/events/events-calendar/25-mid-sout
 h/189-keith-mann-ranked-event
END:VEVENT
BEGIN:VEVENT
UID:20191003T090000NZDT-0596v5uMJL@http://bratac.hosts.net.nz/~fencing/
DTSTAMP:20260424T114331Z
CATEGORIES:Central
DESCRIPTION:<p>Email: <span id='cloak58faff05cc189e311520d795deff6409'>This
  email address is being protected from spambots. You need JavaScript enabl
 ed to view it.</span><script type='text/javascript'>\n				document.getElementB
 yId('cloak58faff05cc189e311520d795deff6409').innerHTML = ''\;\n				var prefix 
 = '&#109\;a' + 'i&#108\;' + '&#116\;o'\;\n				var path = 'hr' + 'ef' + '='\;\n
 				var addy58faff05cc189e311520d795deff6409 = 't&#111\;&#117\;rn&#97\;m&#101\
 ;nts' + '&#64\;'\;\n				addy58faff05cc189e311520d795deff6409 = addy58faff05cc1
 89e311520d795deff6409 + 'f&#101\;nc&#105\;ngc&#101\;ntr&#97\;l' + '&#46\;'
  + '&#111\;rg' + '&#46\;' + 'nz'\;\n				var addy_text58faff05cc189e311520d795d
 eff6409 = 't&#111\;&#117\;rn&#97\;m&#101\;nts' + '&#64\;' + 'f&#101\;nc&#1
 05\;ngc&#101\;ntr&#97\;l' + '&#46\;' + '&#111\;rg' + '&#46\;' + 'nz'\;docu
 ment.getElementById('cloak58faff05cc189e311520d795deff6409').innerHTML += 
 '<a ' + path + '\'' + prefix + ':' + addy58faff05cc189e311520d795deff6409 
 + '\'>'+addy_text58faff05cc189e311520d795deff6409+'<\/a>'\;\n		</script>&nbs
 p\;</p>
DTSTART;TZID=Pacific/Auckland:20230624T090000
DTEND;TZID=Pacific/Auckland:20230624T100000
SUMMARY:Central SS Novice #1
URL:https://bratac.hosts.net.nz/~fencing/events/events-calendar/28-central/
 50-central-ss-novice-2
END:VEVENT
BEGIN:VEVENT
UID:20190922T110000NZST-8869iZFBX5@http://bratac.hosts.net.nz/~fencing/
DTSTAMP:20260424T114331Z
CATEGORIES:Central
DESCRIPTION:<p>Email: <span id='cloak8eb9dcb7d289b36e5c4765a321a354aa'>This
  email address is being protected from spambots. You need JavaScript enabl
 ed to view it.</span><script type='text/javascript'>\n				document.getElementB
 yId('cloak8eb9dcb7d289b36e5c4765a321a354aa').innerHTML = ''\;\n				var prefix 
 = '&#109\;a' + 'i&#108\;' + '&#116\;o'\;\n				var path = 'hr' + 'ef' + '='\;\n
 				var addy8eb9dcb7d289b36e5c4765a321a354aa = 't&#111\;&#117\;rn&#97\;m&#101\
 ;nts' + '&#64\;'\;\n				addy8eb9dcb7d289b36e5c4765a321a354aa = addy8eb9dcb7d28
 9b36e5c4765a321a354aa + 'f&#101\;nc&#105\;ngc&#101\;ntr&#97\;l' + '&#46\;'
  + '&#111\;rg' + '&#46\;' + 'nz'\;\n				var addy_text8eb9dcb7d289b36e5c4765a32
 1a354aa = 't&#111\;&#117\;rn&#97\;m&#101\;nts' + '&#64\;' + 'f&#101\;nc&#1
 05\;ngc&#101\;ntr&#97\;l' + '&#46\;' + '&#111\;rg' + '&#46\;' + 'nz'\;docu
 ment.getElementById('cloak8eb9dcb7d289b36e5c4765a321a354aa').innerHTML += 
 '<a ' + path + '\'' + prefix + ':' + addy8eb9dcb7d289b36e5c4765a321a354aa 
 + '\'>'+addy_text8eb9dcb7d289b36e5c4765a321a354aa+'<\/a>'\;\n		</script>&nbs
 p\;</p>
DTSTART;TZID=Pacific/Auckland:20230625T110000
SUMMARY:Central U11 and U13 #2
URL:https://bratac.hosts.net.nz/~fencing/events/events-calendar/28-central/
 48-central-u13-3
END:VEVENT
END:VCALENDAR
