BEGIN:VCALENDAR
VERSION:2.0
PRODID:-//https://bratac.hosts.net.nz/~fencing//NONSGML kigkonsult.se iCalc
 reator 2.23.20//
METHOD:PUBLISH
X-WR-CALNAME:JCal Pro Calendar
X-WR-CALDESC:Your online events calendar
X-WR-TIMEZONE:Pacific/Auckland
BEGIN:VTIMEZONE
TZID:Pacific/Auckland
BEGIN:STANDARD
DTSTART:20240407T030000
TZOFFSETFROM:+1300
TZOFFSETTO:+1200
RDATE:20250406T030000
TZNAME:NZST
END:STANDARD
BEGIN:DAYLIGHT
DTSTART:20230924T020000
TZOFFSETFROM:+1200
TZOFFSETTO:+1300
RDATE:20240929T020000
TZNAME:NZDT
END:DAYLIGHT
END:VTIMEZONE
BEGIN:VEVENT
UID:20240120T090000NZDT-2944TTTvsu@https://www.fencing.org.nz/
DTSTAMP:20260424T151537Z
CATEGORIES:North
DESCRIPTION:<p>National Training Camp - Auckland 20th January to 23rd Janua
 ry</p>\n<p>Macleans College\, Bucklands Beach\, Auckland</p>\n<p>Organisin
 g Coaches - Kyle Macdonald (Epee)\, Anya Kamynina (Foil)\, Ryan Yan (Sabre
 )</p>\n<p>&nbsp\;</p>\n<p>&nbsp\;</p>
DTSTART;TZID=Pacific/Auckland:20240120T090000
DTEND;TZID=Pacific/Auckland:20240123T100000
SUMMARY:National Training Camp - Auckland January 2024
URL:https://bratac.hosts.net.nz/~fencing/events/events-calendar/26-north/22
 9-national-training-camp-auckland-january-2024
END:VEVENT
END:VCALENDAR
