BEGIN:VCALENDAR
VERSION:2.0
PRODID:-//https://bratac.hosts.net.nz/~fencing//NONSGML kigkonsult.se iCalc
 reator 2.23.20//
METHOD:PUBLISH
X-WR-CALNAME:JCal Pro Calendar
X-WR-CALDESC:Your online events calendar
X-WR-TIMEZONE:Pacific/Auckland
BEGIN:VTIMEZONE
TZID:Pacific/Auckland
BEGIN:STANDARD
DTSTART:20240407T030000
TZOFFSETFROM:+1300
TZOFFSETTO:+1200
RDATE:20250406T030000
TZNAME:NZST
END:STANDARD
BEGIN:DAYLIGHT
DTSTART:20230924T020000
TZOFFSETFROM:+1200
TZOFFSETTO:+1300
RDATE:20240929T020000,20250928T020000
TZNAME:NZDT
END:DAYLIGHT
END:VTIMEZONE
BEGIN:VEVENT
UID:20240406T080000NZDT-18721MB2i9@https://www.fencing.org.nz/
DTSTAMP:20260424T114302Z
CATEGORIES:Central
DESCRIPTION:
DTSTART;TZID=Pacific/Auckland:20240406T080000
DTEND;TZID=Pacific/Auckland:20240407T140000
SUMMARY:Central Junior Championships
URL:https://bratac.hosts.net.nz/~fencing/events/events-calendar/28-central/
 210-central-junior-championships
END:VEVENT
BEGIN:VEVENT
UID:20240406T080000NZDT-85986u5suT@https://www.fencing.org.nz/
DTSTAMP:20260424T114302Z
CATEGORIES:Mid South
DESCRIPTION:
DTSTART;TZID=Pacific/Auckland:20240406T080000
DTEND;TZID=Pacific/Auckland:20240407T140000
SUMMARY:Mid-South U15 & Cadet Championships
URL:https://bratac.hosts.net.nz/~fencing/events/events-calendar/25-mid-sout
 h/211-mid-south-u15-cadet-championships
END:VEVENT
BEGIN:VEVENT
UID:20240413T120000NZST-6565BmuEKv@https://www.fencing.org.nz/
DTSTAMP:20260424T114302Z
CATEGORIES:Central
DESCRIPTION:
DTSTART;TZID=Pacific/Auckland:20240413T120000
DTEND;TZID=Pacific/Auckland:20240414T180000
SUMMARY:University Games
URL:https://bratac.hosts.net.nz/~fencing/events/events-calendar/28-central/
 197-university-games
END:VEVENT
BEGIN:VEVENT
UID:20240414T110000NZST-7218TtuGm5@https://www.fencing.org.nz/
DTSTAMP:20260424T114302Z
CATEGORIES:North
DESCRIPTION:
DTSTART;VALUE=DATE:20240414
DTEND;VALUE=DATE:20240415
SUMMARY:North Junior Championships
URL:https://bratac.hosts.net.nz/~fencing/events/events-calendar/26-north/21
 2-fenton-epee
END:VEVENT
BEGIN:VEVENT
UID:20240421T080000NZST-5054mHImdI@https://www.fencing.org.nz/
DTSTAMP:20260424T114302Z
CATEGORIES:North
DESCRIPTION:
DTSTART;TZID=Pacific/Auckland:20240421T080000
SUMMARY:Fenton Memorial  (Ranking - Epee)
URL:https://bratac.hosts.net.nz/~fencing/events/events-calendar/26-north/22
 7-fenton-memorial-sabre-ranking-epee
END:VEVENT
BEGIN:VEVENT
UID:20240425T120000NZST-9868wATRV3@https://www.fencing.org.nz/
DTSTAMP:20260424T114302Z
CATEGORIES:FeNZ,Mid South
DESCRIPTION:<p><a href='https://www.revolutionise.com.au/fencingmidsouth/ev
 ents/229641'>https://www.revolutionise.com.au/fencingmidsouth/events/22964
 1</a></p>\n<p><a href='news/329-junior-team-challenge-christchurch'>https:
 //www.fencing.org.nz/news/329-junior-team-challenge-christchurch</a></p>
DTSTART;TZID=Pacific/Auckland:20240425T080000
DTEND;TZID=Pacific/Auckland:20240428T140000
SUMMARY:National U15 & Cadet Championships & Junior Challenge
URL:https://bratac.hosts.net.nz/~fencing/events/events-calendar/27-fenz/198
 -national-u15-cadet-championships-and-selection-events
END:VEVENT
END:VCALENDAR
