BEGIN:VCALENDAR
VERSION:2.0
PRODID:-//https://bratac.hosts.net.nz/~fencing//NONSGML kigkonsult.se iCalc
 reator 2.23.20//
METHOD:PUBLISH
X-WR-CALNAME:JCal Pro Calendar
X-WR-CALDESC:Your online events calendar
X-WR-TIMEZONE:Pacific/Auckland
BEGIN:VTIMEZONE
TZID:Pacific/Auckland
BEGIN:STANDARD
DTSTART:20250406T030000
TZOFFSETFROM:+1300
TZOFFSETTO:+1200
RDATE:20260405T030000
TZNAME:NZST
END:STANDARD
BEGIN:DAYLIGHT
DTSTART:20240929T020000
TZOFFSETFROM:+1200
TZOFFSETTO:+1300
RDATE:20250928T020000
TZNAME:NZDT
END:DAYLIGHT
END:VTIMEZONE
BEGIN:VEVENT
UID:20250118T090000NZDT-30114ljf42@https://www.fencing.org.nz/
DTSTAMP:20260424T151629Z
CATEGORIES:FeNZ
DESCRIPTION:<p>This Camp is for fencers with at least 1 year of experience 
 and will cover all three weapons.&nbsp\; <br />The camp is being held at M
 acleans College\,&nbsp\; 2 Macleans Road\, Bucklands Beach Auckland\, 2014
 .</p>\n<p>Link to Booking Page&nbsp\;<a href='https://events.humanitix.com
 /fenz-summer-camp-2025'>https://events.humanitix.com/fenz-summer-camp-2025
 </a></p>
DTSTART;TZID=Pacific/Auckland:20250118T090000
DTEND;TZID=Pacific/Auckland:20250121T160000
SUMMARY:2025 Summer Fencing Camp
URL:https://bratac.hosts.net.nz/~fencing/events/events-calendar/27-fenz/262
 -2025-summer-fencing-camp
END:VEVENT
END:VCALENDAR
