BEGIN:VCALENDAR
VERSION:2.0
PRODID:-//https://bratac.hosts.net.nz/~fencing//NONSGML kigkonsult.se iCalc
 reator 2.23.20//
METHOD:PUBLISH
X-WR-CALNAME:JCal Pro Calendar
X-WR-CALDESC:Your online events calendar
X-WR-TIMEZONE:Pacific/Auckland
BEGIN:VTIMEZONE
TZID:Pacific/Auckland
BEGIN:STANDARD
DTSTART:20260405T030000
TZOFFSETFROM:+1300
TZOFFSETTO:+1200
RDATE:20270404T030000
TZNAME:NZST
END:STANDARD
BEGIN:DAYLIGHT
DTSTART:20250928T020000
TZOFFSETFROM:+1200
TZOFFSETTO:+1300
RDATE:20260927T020000
TZNAME:NZDT
END:DAYLIGHT
END:VTIMEZONE
BEGIN:VEVENT
UID:20260221T080000NZDT-1265ZuixkH@https://www.fencing.org.nz/
DTSTAMP:20260424T132830Z
CATEGORIES:Central
DESCRIPTION:
DTSTART;TZID=Pacific/Auckland:20260221T080000
DTEND;TZID=Pacific/Auckland:20260222T163000
SUMMARY:Central U15 & Cadet Championships
URL:https://bratac.hosts.net.nz/~fencing/events/events-calendar/28-central/
 283-central-u15-cadet-championships
END:VEVENT
BEGIN:VEVENT
UID:20260301T080000NZDT-8066jXgWDM@https://www.fencing.org.nz/
DTSTAMP:20260424T132830Z
CATEGORIES:North
DESCRIPTION:
DTSTART;TZID=Pacific/Auckland:20260301T080000
DTEND;TZID=Pacific/Auckland:20260301T160000
SUMMARY:North U15 & Cadet Championships
URL:https://bratac.hosts.net.nz/~fencing/events/events-calendar/26-north/28
 4-north-u15-cadet-championships
END:VEVENT
BEGIN:VEVENT
UID:20260301T080000NZDT-51004SnwKt@https://www.fencing.org.nz/
DTSTAMP:20260424T132830Z
CATEGORIES:South
DESCRIPTION:
DTSTART;TZID=Pacific/Auckland:20260301T080000
DTEND;TZID=Pacific/Auckland:20260301T160000
SUMMARY:South Age Groups
URL:https://bratac.hosts.net.nz/~fencing/events/events-calendar/29-south/28
 5-south-age-groups
END:VEVENT
END:VCALENDAR
