BEGIN:VCALENDAR
VERSION:2.0
PRODID:-//https://bratac.hosts.net.nz/~fencing//NONSGML kigkonsult.se iCalc
 reator 2.23.20//
METHOD:PUBLISH
X-WR-CALNAME:JCal Pro Calendar
X-WR-CALDESC:Your online events calendar
X-WR-TIMEZONE:Pacific/Auckland
BEGIN:VTIMEZONE
TZID:Pacific/Auckland
BEGIN:STANDARD
DTSTART:20260405T030000
TZOFFSETFROM:+1300
TZOFFSETTO:+1200
RDATE:20270404T030000
TZNAME:NZST
END:STANDARD
BEGIN:DAYLIGHT
DTSTART:20260927T020000
TZOFFSETFROM:+1200
TZOFFSETTO:+1300
RDATE:20270926T020000
TZNAME:NZDT
END:DAYLIGHT
END:VTIMEZONE
BEGIN:VEVENT
UID:20260509T080000NZST-507531tN5m@https://www.fencing.org.nz/
DTSTAMP:20260424T114337Z
CATEGORIES:Mid South
DESCRIPTION:<p>Christchurch</p>
DTSTART;TZID=Pacific/Auckland:20260509T080000
DTEND;TZID=Pacific/Auckland:20260510T173000
SUMMARY:Mark Rance Memorial (Ranking)
URL:https://bratac.hosts.net.nz/~fencing/events/events-calendar/25-mid-sout
 h/291-mark-rance-memorial-ranking
END:VEVENT
BEGIN:VEVENT
UID:20260509T080000NZST-6173BgP4il@https://www.fencing.org.nz/
DTSTAMP:20260424T114337Z
CATEGORIES:Central
DESCRIPTION:<p>Wellington</p>
DTSTART;TZID=Pacific/Auckland:20260509T080000
DTEND;TZID=Pacific/Auckland:20260510T170000
SUMMARY:Central Senior Championships
URL:https://bratac.hosts.net.nz/~fencing/events/events-calendar/28-central/
 307-central-senior-championships
END:VEVENT
BEGIN:VEVENT
UID:20260510T140000NZST-4190DVnCxF@https://www.fencing.org.nz/
DTSTAMP:20260424T114337Z
CATEGORIES:North
DESCRIPTION:
DTSTART;TZID=Pacific/Auckland:20260510T140000
DTEND;TZID=Pacific/Auckland:20260510T150000
SUMMARY:Ongley Memorial (Ranking)
URL:https://bratac.hosts.net.nz/~fencing/events/events-calendar/26-north/30
 9-ongley-memorial-ranking
END:VEVENT
BEGIN:VEVENT
UID:20260523T070000NZST-7614JURwSV@https://www.fencing.org.nz/
DTSTAMP:20260424T114337Z
CATEGORIES:FeNZ
DESCRIPTION:<p>Christchurch</p>
DTSTART;TZID=Pacific/Auckland:20260523T070000
DTEND;TZID=Pacific/Auckland:20260524T173000
SUMMARY:National U15 & Cadet Championships
URL:https://bratac.hosts.net.nz/~fencing/events/events-calendar/27-fenz/293
 -national-u15-cadet-championships
END:VEVENT
END:VCALENDAR
