BEGIN:VCALENDAR
VERSION:2.0
PRODID:-//https://bratac.hosts.net.nz/~fencing//NONSGML kigkonsult.se iCalc
 reator 2.23.20//
METHOD:PUBLISH
X-WR-CALNAME:JCal Pro Calendar
X-WR-CALDESC:Your online events calendar
X-WR-TIMEZONE:Pacific/Auckland
BEGIN:VTIMEZONE
TZID:Pacific/Auckland
BEGIN:STANDARD
DTSTART:20260405T030000
TZOFFSETFROM:+1300
TZOFFSETTO:+1200
RDATE:20270404T030000
TZNAME:NZST
END:STANDARD
BEGIN:DAYLIGHT
DTSTART:20260927T020000
TZOFFSETFROM:+1200
TZOFFSETTO:+1300
RDATE:20270926T020000
TZNAME:NZDT
END:DAYLIGHT
END:VTIMEZONE
BEGIN:VEVENT
UID:20260801T080000NZST-6092U1gN6n@https://www.fencing.org.nz/
DTSTAMP:20260424T114256Z
CATEGORIES:Mid South
DESCRIPTION:
DTSTART;TZID=Pacific/Auckland:20260801T080000
DTEND;TZID=Pacific/Auckland:20260802T173300
SUMMARY:Mid-South Secondary Schools Championships
URL:https://bratac.hosts.net.nz/~fencing/events/events-calendar/25-mid-sout
 h/311-mid-south-secondary-schools-championships
END:VEVENT
BEGIN:VEVENT
UID:20260815T080000NZST-4829fEavGa@https://www.fencing.org.nz/
DTSTAMP:20260424T114256Z
CATEGORIES:South
DESCRIPTION:<p>Dunedin</p>
DTSTART;TZID=Pacific/Auckland:20260815T080000
DTEND;TZID=Pacific/Auckland:20260816T163000
SUMMARY:South Open Championships 
URL:https://bratac.hosts.net.nz/~fencing/events/events-calendar/29-south/30
 0-south-open-championships
END:VEVENT
BEGIN:VEVENT
UID:20260829T080000NZST-14075CUuPa@https://www.fencing.org.nz/
DTSTAMP:20260424T114256Z
CATEGORIES:FeNZ,North
DESCRIPTION:
DTSTART;TZID=Pacific/Auckland:20260829T080000
DTEND;TZID=Pacific/Auckland:20260831T170000
SUMMARY:NZ Secondary Schools Championships 
URL:https://bratac.hosts.net.nz/~fencing/events/events-calendar/27-fenz/308
 -nz-secondary-schools-championships
END:VEVENT
END:VCALENDAR
